BEGIN:VCALENDAR
VERSION:2.0
PRODID:-//ChamberMaster//Event Calendar 2.0//EN
METHOD:PUBLISH
X-PUBLISHED-TTL:P3D
REFRESH-INTERVAL:P3D
CALSCALE:GREGORIAN
BEGIN:VEVENT
DTSTART:20260813T190000Z
DTEND:20260813T200000Z
X-MICROSOFT-CDO-ALLDAYEVENT:FALSE
SUMMARY:Board Meeting
DESCRIPTION:Monthly meeting of the SAHBA Board of Directors.
X-ALT-DESC;FMTTYPE=text/html:Monthly meeting of the SAHBA Board of Directors.&nbsp\;
LOCATION:SAHBA Board Room
UID:e.3116.378
SEQUENCE:3
DTSTAMP:20260421T032542Z
URL:https://members.sahba.org/events/details/board-meeting-08-13-2026-378
END:VEVENT

END:VCALENDAR
